BEGIN:VCALENDAR
VERSION:2.0
PRODID:icalendar-ruby
CALSCALE:GREGORIAN
METHOD:PUBLISH
BEGIN:VEVENT
DTSTAMP:20260424T130405Z
UID:13aa4157-2cde-4413-8e1d-5f11a8632039
DTSTART;VALUE=DATE:20170720
DTEND;VALUE=DATE:20170720
DESCRIPTION:Penticton BMX
LOCATION:630 Munson Mountain Road  Penticton BC V2A 8S5 CAN
SUMMARY:Standard Single Single
URL:/site/bmx_races/339646
END:VEVENT
END:VCALENDAR
