BEGIN:VCALENDAR
VERSION:2.0
PRODID:icalendar-ruby
CALSCALE:GREGORIAN
METHOD:PUBLISH
BEGIN:VEVENT
DTSTAMP:20260424T193700Z
UID:c7cfb737-a37a-4537-ad4d-5c57653be271
DTSTART;VALUE=DATE:20170502
DTEND;VALUE=DATE:20170502
DESCRIPTION:Spokane BMX
LOCATION:5701 N Assembly St  Spokane WA 99205 USA
SUMMARY:Practice
URL:/site/bmx_races/340326
END:VEVENT
END:VCALENDAR
