BEGIN:VCALENDAR
VERSION:2.0
PRODID:icalendar-ruby
CALSCALE:GREGORIAN
METHOD:PUBLISH
BEGIN:VEVENT
DTSTAMP:20260424T144342Z
UID:d0d52a50-9416-4bda-a66d-051ce278a9e9
DTSTART;VALUE=DATE:20170725
DTEND;VALUE=DATE:20170725
DESCRIPTION:Spokane BMX
LOCATION:5701 N Assembly St  Spokane WA 99205 USA
SUMMARY:Practice
URL:/site/bmx_races/340342
END:VEVENT
END:VCALENDAR
