BEGIN:VCALENDAR
VERSION:2.0
PRODID:icalendar-ruby
CALSCALE:GREGORIAN
METHOD:PUBLISH
BEGIN:VEVENT
DTSTAMP:20260424T011425Z
UID:6d9ea2cb-9f48-4b1f-ad48-c0a88f613c7f
DTSTART;VALUE=DATE:20171021
DTEND;VALUE=DATE:20171021
DESCRIPTION:MadTown BMX
LOCATION:6996 Hickory Lane  Deforest WI 53532 USA
SUMMARY:Standard Single Single
URL:/site/bmx_races/340446
END:VEVENT
END:VCALENDAR
