BEGIN:VCALENDAR
VERSION:2.0
PRODID:icalendar-ruby
CALSCALE:GREGORIAN
METHOD:PUBLISH
BEGIN:VEVENT
DTSTAMP:20260419T192834Z
UID:c1c5f8a5-fdbe-410e-b51a-5e9edbf1c7c0
DTSTART;VALUE=DATE:20170529
DTEND;VALUE=DATE:20170529
DESCRIPTION:Hamilton BMX
LOCATION:7 Joe Nuxhall Way  Hamilton OH 45015 USA
SUMMARY:Standard Single Single
URL:/site/bmx_races/341216
END:VEVENT
END:VCALENDAR
