BEGIN:VCALENDAR
VERSION:2.0
PRODID:icalendar-ruby
CALSCALE:GREGORIAN
METHOD:PUBLISH
BEGIN:VEVENT
DTSTAMP:20260420T131400Z
UID:1d018eba-f3de-4009-a268-9a8f1031407f
DTSTART;VALUE=DATE:20170422
DTEND;VALUE=DATE:20170422
DESCRIPTION:Nanaimo BMX
LOCATION:2001 Labieux Road  Nanaimo BC V9T 3K7 CAN
SUMMARY:Clinic
URL:/site/bmx_races/341422
END:VEVENT
END:VCALENDAR
