BEGIN:VCALENDAR
VERSION:2.0
PRODID:icalendar-ruby
CALSCALE:GREGORIAN
METHOD:PUBLISH
BEGIN:VEVENT
DTSTAMP:20260420T112849Z
UID:6c80a5b8-ee13-4a40-8773-d208657e5b74
DTSTART;VALUE=DATE:20170508
DTEND;VALUE=DATE:20170508
DESCRIPTION:Nanaimo BMX
LOCATION:2001 Labieux Road  Nanaimo BC V9T 3K7 CAN
SUMMARY:Practice
URL:/site/bmx_races/341426
END:VEVENT
END:VCALENDAR
