BEGIN:VCALENDAR
VERSION:2.0
PRODID:icalendar-ruby
CALSCALE:GREGORIAN
METHOD:PUBLISH
BEGIN:VEVENT
DTSTAMP:20260420T082027Z
UID:4623e63e-0e84-4d68-98b1-c5e646eec071
DTSTART;VALUE=DATE:20170712
DTEND;VALUE=DATE:20170712
DESCRIPTION:Nanaimo BMX
LOCATION:2001 Labieux Road  Nanaimo BC V9T 3K7 CAN
SUMMARY:Local Race Single
URL:/site/bmx_races/341452
END:VEVENT
END:VCALENDAR
