BEGIN:VCALENDAR
VERSION:2.0
PRODID:icalendar-ruby
CALSCALE:GREGORIAN
METHOD:PUBLISH
BEGIN:VEVENT
DTSTAMP:20260424T202541Z
UID:e5a28a22-20b8-430e-a29f-406dfeb86295
DTSTART;VALUE=DATE:20170505
DTEND;VALUE=DATE:20170505
DESCRIPTION:Blue Springs BMX
LOCATION:2715 Nw Park Drive  Blue Springs MO 64015 USA
SUMMARY:Standard Single Single
URL:/site/bmx_races/341484
END:VEVENT
END:VCALENDAR
