BEGIN:VCALENDAR
VERSION:2.0
PRODID:icalendar-ruby
CALSCALE:GREGORIAN
METHOD:PUBLISH
BEGIN:VEVENT
DTSTAMP:20260424T174623Z
UID:f1b1a7a5-f424-4777-9593-08e22326dc83
DTSTART;VALUE=DATE:20170825
DTEND;VALUE=DATE:20170825
DESCRIPTION:Caldwell BMX
LOCATION:4700 Skyway St  Caldwell ID 83605 USA
SUMMARY:Standard Single Single
URL:/site/bmx_races/341558
END:VEVENT
END:VCALENDAR
