BEGIN:VCALENDAR
VERSION:2.0
PRODID:icalendar-ruby
CALSCALE:GREGORIAN
METHOD:PUBLISH
BEGIN:VEVENT
DTSTAMP:20260424T215935Z
UID:7dbba87a-29ad-45c3-b352-258b92d87162
DTSTART;VALUE=DATE:20170509
DTEND;VALUE=DATE:20170509
DESCRIPTION:Caldwell BMX
LOCATION:4700 Skyway St  Caldwell ID 83605 USA
SUMMARY:Practice
URL:/site/bmx_races/341566
END:VEVENT
END:VCALENDAR
