BEGIN:VCALENDAR
VERSION:2.0
PRODID:icalendar-ruby
CALSCALE:GREGORIAN
METHOD:PUBLISH
BEGIN:VEVENT
DTSTAMP:20260421T021939Z
UID:b7316ec2-1363-494a-ae9b-9967f5a68992
DTSTART;VALUE=DATE:20170215
DTEND;VALUE=DATE:20170215
DESCRIPTION:Naples BMX
LOCATION:4701 Golden Gate Parkway  Naples FL 34116 USA
SUMMARY:Practice
URL:/site/bmx_races/342097
END:VEVENT
END:VCALENDAR
