BEGIN:VCALENDAR
VERSION:2.0
PRODID:icalendar-ruby
CALSCALE:GREGORIAN
METHOD:PUBLISH
BEGIN:VEVENT
DTSTAMP:20260420T125947Z
UID:7a95531f-5a52-4305-a425-b7fea44243bf
DTSTART;VALUE=DATE:20170908
DTEND;VALUE=DATE:20170908
DESCRIPTION:Naples BMX
LOCATION:4701 Golden Gate Parkway  Naples FL 34116 USA
SUMMARY:Local Race Single
URL:/site/bmx_races/342155
END:VEVENT
END:VCALENDAR
