BEGIN:VCALENDAR
VERSION:2.0
PRODID:icalendar-ruby
CALSCALE:GREGORIAN
METHOD:PUBLISH
BEGIN:VEVENT
DTSTAMP:20260420T094744Z
UID:144afbfe-c8a5-45a7-918c-0052b18f5e6a
DTSTART;VALUE=DATE:20171101
DTEND;VALUE=DATE:20171101
DESCRIPTION:Naples BMX
LOCATION:4701 Golden Gate Parkway  Naples FL 34116 USA
SUMMARY:Practice
URL:/site/bmx_races/342170
END:VEVENT
END:VCALENDAR
