BEGIN:VCALENDAR
VERSION:2.0
PRODID:icalendar-ruby
CALSCALE:GREGORIAN
METHOD:PUBLISH
BEGIN:VEVENT
DTSTAMP:20260420T091911Z
UID:840267b0-80c5-4a8d-8d5b-b512b521aaa0
DTSTART;VALUE=DATE:20170302
DTEND;VALUE=DATE:20170302
DESCRIPTION:Mag Ridge BMX Park
LOCATION:344 Oldtown Crossing  Ridgeland MS 39157 USA
SUMMARY:Practice
URL:/site/bmx_races/342265
END:VEVENT
END:VCALENDAR
