BEGIN:VCALENDAR
VERSION:2.0
PRODID:icalendar-ruby
CALSCALE:GREGORIAN
METHOD:PUBLISH
BEGIN:VEVENT
DTSTAMP:20260420T021709Z
UID:a4804037-320a-4b74-beef-232d56fc5aee
DTSTART;VALUE=DATE:20170628
DTEND;VALUE=DATE:20170628
DESCRIPTION:Langley BMX
LOCATION:4375 206 St Langley  Langley BC V3A 3B1 CAN
SUMMARY:Standard Single Single
URL:/site/bmx_races/342383
END:VEVENT
END:VCALENDAR
