BEGIN:VCALENDAR
VERSION:2.0
PRODID:icalendar-ruby
CALSCALE:GREGORIAN
METHOD:PUBLISH
BEGIN:VEVENT
DTSTAMP:20260424T021059Z
UID:8bfc5912-3ed0-4717-8abb-cef3a46c0645
DTSTART;VALUE=DATE:20170613
DTEND;VALUE=DATE:20170613
DESCRIPTION:Marquette BMX
LOCATION:910 Hawley Street  Marquette MI 49855 USA
SUMMARY:Local Race Single
URL:/site/bmx_races/342922
END:VEVENT
END:VCALENDAR
