BEGIN:VCALENDAR
VERSION:2.0
PRODID:icalendar-ruby
CALSCALE:GREGORIAN
METHOD:PUBLISH
BEGIN:VEVENT
DTSTAMP:20260424T101232Z
UID:58781560-3ac0-4e7e-8990-15fa0e86213c
DTSTART;VALUE=DATE:20170504
DTEND;VALUE=DATE:20170504
DESCRIPTION:80/35 BMX
LOCATION:1701 E Mc Kinley Ave  Des Moines IA 50320 USA
SUMMARY:Standard Single Single
URL:/site/bmx_races/343174
END:VEVENT
END:VCALENDAR
