BEGIN:VCALENDAR
VERSION:2.0
PRODID:icalendar-ruby
CALSCALE:GREGORIAN
METHOD:PUBLISH
BEGIN:VEVENT
DTSTAMP:20260424T022435Z
UID:d845d10b-e4d7-4e3c-a0ca-ffde8201e0e4
DTSTART;VALUE=DATE:20170902
DTEND;VALUE=DATE:20170902
DESCRIPTION:80/35 BMX
LOCATION:1701 E Mc Kinley Ave  Des Moines IA 50320 USA
SUMMARY:Local Race Single
URL:/site/bmx_races/343312
END:VEVENT
END:VCALENDAR
