BEGIN:VCALENDAR
VERSION:2.0
PRODID:icalendar-ruby
CALSCALE:GREGORIAN
METHOD:PUBLISH
BEGIN:VEVENT
DTSTAMP:20260425T232850Z
UID:aeae7cde-d658-401d-ae6e-2f8cfa9f3915
DTSTART;VALUE=DATE:20170422
DTEND;VALUE=DATE:20170422
DESCRIPTION:Grand Prix BMX at SoCal Fair
LOCATION:18700 Lake Perris Dr  Perris CA 92571 USA
SUMMARY:Standard Single Single
URL:/site/bmx_races/343548
END:VEVENT
END:VCALENDAR
