BEGIN:VCALENDAR
VERSION:2.0
PRODID:icalendar-ruby
CALSCALE:GREGORIAN
METHOD:PUBLISH
BEGIN:VEVENT
DTSTAMP:20260424T032349Z
UID:bf2ecc84-352b-4477-9902-60867bd8e34f
DTSTART;VALUE=DATE:20170321
DTEND;VALUE=DATE:20170321
DESCRIPTION:Air Time BMX
LOCATION:5051 S Frankwood Ave  Reedley CA 93654 USA
SUMMARY:Standard Single Single
URL:/site/bmx_races/343778
END:VEVENT
END:VCALENDAR
