BEGIN:VCALENDAR
VERSION:2.0
PRODID:icalendar-ruby
CALSCALE:GREGORIAN
METHOD:PUBLISH
BEGIN:VEVENT
DTSTAMP:20260423T214205Z
UID:3e1f6417-0a18-4b24-a893-8ed88bdb33a3
DTSTART;VALUE=DATE:20170704
DTEND;VALUE=DATE:20170704
DESCRIPTION:Air Time BMX
LOCATION:5051 S Frankwood Ave  Reedley CA 93654 USA
SUMMARY:Local Race Single
URL:/site/bmx_races/343793
END:VEVENT
END:VCALENDAR
