BEGIN:VCALENDAR
VERSION:2.0
PRODID:icalendar-ruby
CALSCALE:GREGORIAN
METHOD:PUBLISH
BEGIN:VEVENT
DTSTAMP:20260422T230937Z
UID:bb88249d-0a96-4bb4-a47e-365d0bf76eaf
DTSTART;VALUE=DATE:20171013
DTEND;VALUE=DATE:20171013
DESCRIPTION:Peninsula Indoor BMX
LOCATION:5867 Dogwood Road Se  Port Orchard WA 98367 USA
SUMMARY:Standard Single Single
URL:/site/bmx_races/343946
END:VEVENT
END:VCALENDAR
