BEGIN:VCALENDAR
VERSION:2.0
PRODID:icalendar-ruby
CALSCALE:GREGORIAN
METHOD:PUBLISH
BEGIN:VEVENT
DTSTAMP:20260424T122331Z
UID:1e18a2b2-9a47-4052-9ede-b7becc589c6a
DTSTART;VALUE=DATE:20170708
DTEND;VALUE=DATE:20170708
DESCRIPTION:Columbus BMX
LOCATION:876 Spears St.  Columbus IN 47201 USA
SUMMARY:Warnicke Single
URL:/site/bmx_races/344022
END:VEVENT
END:VCALENDAR
