BEGIN:VCALENDAR
VERSION:2.0
PRODID:icalendar-ruby
CALSCALE:GREGORIAN
METHOD:PUBLISH
BEGIN:VEVENT
DTSTAMP:20260424T050154Z
UID:8c0152df-a446-40d6-b36f-c2f6a8724df4
DTSTART;VALUE=DATE:20170217
DTEND;VALUE=DATE:20170217
DESCRIPTION:Air Time BMX
LOCATION:5051 S Frankwood Ave  Reedley CA 93654 USA
SUMMARY:Local Race Single
URL:/site/bmx_races/344128
END:VEVENT
END:VCALENDAR
