BEGIN:VCALENDAR
VERSION:2.0
PRODID:icalendar-ruby
CALSCALE:GREGORIAN
METHOD:PUBLISH
BEGIN:VEVENT
DTSTAMP:20260424T050153Z
UID:b3f40ab2-7dee-4585-8ea3-81859f2ebb83
DTSTART;VALUE=DATE:20170224
DTEND;VALUE=DATE:20170224
DESCRIPTION:Air Time BMX
LOCATION:5051 S Frankwood Ave  Reedley CA 93654 USA
SUMMARY:Local Race Single
URL:/site/bmx_races/344129
END:VEVENT
END:VCALENDAR
