BEGIN:VCALENDAR
VERSION:2.0
PRODID:icalendar-ruby
CALSCALE:GREGORIAN
METHOD:PUBLISH
BEGIN:VEVENT
DTSTAMP:20260423T230115Z
UID:e3065089-4326-4136-be70-08b9f2cb5e3e
DTSTART;VALUE=DATE:20170630
DTEND;VALUE=DATE:20170630
DESCRIPTION:Air Time BMX
LOCATION:5051 S Frankwood Ave  Reedley CA 93654 USA
SUMMARY:Local Race Single
URL:/site/bmx_races/344147
END:VEVENT
END:VCALENDAR
