BEGIN:VCALENDAR
VERSION:2.0
PRODID:icalendar-ruby
CALSCALE:GREGORIAN
METHOD:PUBLISH
BEGIN:VEVENT
DTSTAMP:20260423T171430Z
UID:5a7818c1-c97a-4855-97a7-fab27f50b353
DTSTART;VALUE=DATE:20171020
DTEND;VALUE=DATE:20171020
DESCRIPTION:Air Time BMX
LOCATION:5051 S Frankwood Ave  Reedley CA 93654 USA
SUMMARY:Local Race Single
URL:/site/bmx_races/344163
END:VEVENT
END:VCALENDAR
