BEGIN:VCALENDAR
VERSION:2.0
PRODID:icalendar-ruby
CALSCALE:GREGORIAN
METHOD:PUBLISH
BEGIN:VEVENT
DTSTAMP:20260423T135800Z
UID:2e32217e-6d26-4fc0-b73a-0e786e3917ff
DTSTART;VALUE=DATE:20171215
DTEND;VALUE=DATE:20171215
DESCRIPTION:Air Time BMX
LOCATION:5051 S Frankwood Ave  Reedley CA 93654 USA
SUMMARY:Local Race Single
URL:/site/bmx_races/344171
END:VEVENT
END:VCALENDAR
