BEGIN:VCALENDAR
VERSION:2.0
PRODID:icalendar-ruby
CALSCALE:GREGORIAN
METHOD:PUBLISH
BEGIN:VEVENT
DTSTAMP:20260424T050221Z
UID:4075b4b0-862b-483c-b810-301f4a76f2e7
DTSTART;VALUE=DATE:20170210
DTEND;VALUE=DATE:20170210
DESCRIPTION:Air Time BMX
LOCATION:5051 S Frankwood Ave  Reedley CA 93654 USA
SUMMARY:Local Race Single
URL:/site/bmx_races/344172
END:VEVENT
END:VCALENDAR
