BEGIN:VCALENDAR
VERSION:2.0
PRODID:icalendar-ruby
CALSCALE:GREGORIAN
METHOD:PUBLISH
BEGIN:VEVENT
DTSTAMP:20260423T020819Z
UID:2c860816-e5e3-46aa-982c-49d9f7871fa9
DTSTART;VALUE=DATE:20170809
DTEND;VALUE=DATE:20170809
DESCRIPTION:Peninsula Indoor BMX
LOCATION:5867 Dogwood Road Se  Port Orchard WA 98367 USA
SUMMARY:Practice
URL:/site/bmx_races/344264
END:VEVENT
END:VCALENDAR
