BEGIN:VCALENDAR
VERSION:2.0
PRODID:icalendar-ruby
CALSCALE:GREGORIAN
METHOD:PUBLISH
BEGIN:VEVENT
DTSTAMP:20260422T211054Z
UID:99a5c076-6377-4933-919f-d84a9924cab0
DTSTART;VALUE=DATE:20171008
DTEND;VALUE=DATE:20171008
DESCRIPTION:St. Peters BMX
LOCATION:100 Brown Rd  St. Peters MO 63376 USA
SUMMARY:Final Triple
URL:/site/bmx_races/344290
END:VEVENT
END:VCALENDAR
