BEGIN:VCALENDAR
VERSION:2.0
PRODID:icalendar-ruby
CALSCALE:GREGORIAN
METHOD:PUBLISH
BEGIN:VEVENT
DTSTAMP:20260420T082143Z
UID:a47bcab6-6600-4968-bd2f-2e440ac6dd09
DTSTART;VALUE=DATE:20170305
DTEND;VALUE=DATE:20170305
DESCRIPTION:Whitney Mesa BMX
LOCATION:1575 Galleria Dr  Henderson NV 89014 USA
SUMMARY:Practice
URL:/site/bmx_races/344527
END:VEVENT
END:VCALENDAR
