BEGIN:VCALENDAR
VERSION:2.0
PRODID:icalendar-ruby
CALSCALE:GREGORIAN
METHOD:PUBLISH
BEGIN:VEVENT
DTSTAMP:20260423T051404Z
UID:bca29678-87ab-440e-994c-4002769ee27d
DTSTART;VALUE=DATE:20170624
DTEND;VALUE=DATE:20170624
DESCRIPTION:Horseheads BMX
LOCATION:190 Wygant Rd  Horseheads NY 14845 USA
SUMMARY:Olympic Single
URL:/site/bmx_races/344557
END:VEVENT
END:VCALENDAR
