BEGIN:VCALENDAR
VERSION:2.0
PRODID:icalendar-ruby
CALSCALE:GREGORIAN
METHOD:PUBLISH
BEGIN:VEVENT
DTSTAMP:20260419T142345Z
UID:e9ab0271-bfb9-4972-9e1f-9ac05629c3b9
DTSTART;VALUE=DATE:20170217
DTEND;VALUE=DATE:20170217
DESCRIPTION:St. Cloud BMX
LOCATION:2401 Peghorn Way  St. Cloud FL 34769 USA
SUMMARY:Standard Single Single
URL:/site/bmx_races/345222
END:VEVENT
END:VCALENDAR
