BEGIN:VCALENDAR
VERSION:2.0
PRODID:icalendar-ruby
CALSCALE:GREGORIAN
METHOD:PUBLISH
BEGIN:VEVENT
DTSTAMP:20260419T153120Z
UID:754c1a0f-367f-46d7-838e-0aa53602f3d1
DTSTART;VALUE=DATE:20170825
DTEND;VALUE=DATE:20170825
DESCRIPTION:Burdette Park BMX
LOCATION:5821 Nurrenbern Rd  Evansville IN 47712 USA
SUMMARY:Race For Life Single
URL:/site/bmx_races/345353
END:VEVENT
END:VCALENDAR
