BEGIN:VCALENDAR
VERSION:2.0
PRODID:icalendar-ruby
CALSCALE:GREGORIAN
METHOD:PUBLISH
BEGIN:VEVENT
DTSTAMP:20260423T220355Z
UID:c81ecbaf-0da6-4f53-b777-8d65c3a6c8ff
DTSTART;VALUE=DATE:20170712
DTEND;VALUE=DATE:20170712
DESCRIPTION:South Towns BMX
LOCATION:2982 Lakeview Rd  Hamburg NY 14075 USA
SUMMARY:Practice
URL:/site/bmx_races/345658
END:VEVENT
END:VCALENDAR
