BEGIN:VCALENDAR
VERSION:2.0
PRODID:icalendar-ruby
CALSCALE:GREGORIAN
METHOD:PUBLISH
BEGIN:VEVENT
DTSTAMP:20260419T125101Z
UID:500e9530-89b8-4bea-a8be-380288449f03
DTSTART;VALUE=DATE:20170205
DTEND;VALUE=DATE:20170205
DESCRIPTION:Twin City BMX
LOCATION:401 Lea Joyner Memorial Expy  Monroe LA 71201 USA
SUMMARY:Standard Single Single
URL:/site/bmx_races/345910
END:VEVENT
END:VCALENDAR
