BEGIN:VCALENDAR
VERSION:2.0
PRODID:icalendar-ruby
CALSCALE:GREGORIAN
METHOD:PUBLISH
BEGIN:VEVENT
DTSTAMP:20260422T171307Z
UID:80b5db0f-9ba0-464a-9582-0b1acfe26916
DTSTART;VALUE=DATE:20170507
DTEND;VALUE=DATE:20170507
DESCRIPTION:Molalla River BMX
LOCATION:920 Toliver Rd  Molalla OR 97038 USA
SUMMARY:Standard Single Single
URL:/site/bmx_races/346135
END:VEVENT
END:VCALENDAR
