BEGIN:VCALENDAR
VERSION:2.0
PRODID:icalendar-ruby
CALSCALE:GREGORIAN
METHOD:PUBLISH
BEGIN:VEVENT
DTSTAMP:20260424T034805Z
UID:99514879-d112-45f0-8a5b-f10fcc05d477
DTSTART;VALUE=DATE:20170307
DTEND;VALUE=DATE:20170307
DESCRIPTION:Yucca Valley BMX
LOCATION:6989 Sage Ave  Yucca Valley CA 92234 USA
SUMMARY:Clinic
URL:/site/bmx_races/346228
END:VEVENT
END:VCALENDAR
