BEGIN:VCALENDAR
VERSION:2.0
PRODID:icalendar-ruby
CALSCALE:GREGORIAN
METHOD:PUBLISH
BEGIN:VEVENT
DTSTAMP:20260423T203315Z
UID:9acd450b-7072-49f9-b344-02bd008b25f6
DTSTART;VALUE=DATE:20170822
DTEND;VALUE=DATE:20170822
DESCRIPTION:Yucca Valley BMX
LOCATION:6989 Sage Ave  Yucca Valley CA 92234 USA
SUMMARY:Clinic
URL:/site/bmx_races/346240
END:VEVENT
END:VCALENDAR
