BEGIN:VCALENDAR
VERSION:2.0
PRODID:icalendar-ruby
CALSCALE:GREGORIAN
METHOD:PUBLISH
BEGIN:VEVENT
DTSTAMP:20260423T190737Z
UID:ad7dc372-404a-4dae-97f7-c4a3001a6817
DTSTART;VALUE=DATE:20170919
DTEND;VALUE=DATE:20170919
DESCRIPTION:Yucca Valley BMX
LOCATION:6989 Sage Ave  Yucca Valley CA 92234 USA
SUMMARY:Clinic
URL:/site/bmx_races/346242
END:VEVENT
END:VCALENDAR
