BEGIN:VCALENDAR
VERSION:2.0
PRODID:icalendar-ruby
CALSCALE:GREGORIAN
METHOD:PUBLISH
BEGIN:VEVENT
DTSTAMP:20260422T075708Z
UID:d423bda8-036d-4831-b36f-3147fa9ce13a
DTSTART;VALUE=DATE:20170708
DTEND;VALUE=DATE:20170708
DESCRIPTION:Legacy Raceway BMX
LOCATION:151 S. 1100 W  Farmington UT 84025 USA
SUMMARY:Earned Double
URL:/site/bmx_races/346810
END:VEVENT
END:VCALENDAR
