BEGIN:VCALENDAR
VERSION:2.0
PRODID:icalendar-ruby
CALSCALE:GREGORIAN
METHOD:PUBLISH
BEGIN:VEVENT
DTSTAMP:20260419T182527Z
UID:45765539-1a8d-4b6b-9371-fa41dc0e4c46
DTSTART;VALUE=DATE:20170721
DTEND;VALUE=DATE:20170721
DESCRIPTION:Buffalo Creek BMX
LOCATION:1017 9th Street  Glencoe MN 55336 USA
SUMMARY:Race For Life Double Double
URL:/site/bmx_races/346894
END:VEVENT
END:VCALENDAR
