BEGIN:VCALENDAR
VERSION:2.0
PRODID:icalendar-ruby
CALSCALE:GREGORIAN
METHOD:PUBLISH
BEGIN:VEVENT
DTSTAMP:20260426T024721Z
UID:7ebfb488-0a69-48d3-9cb6-d6e76c6cf19e
DTSTART;VALUE=DATE:20170614
DTEND;VALUE=DATE:20170614
DESCRIPTION:North Shore BMX
LOCATION:1301 Lillooet Road  North Vancouver BC V7J 3T7 CAN
SUMMARY:Standard Single Single
URL:/site/bmx_races/347194
END:VEVENT
END:VCALENDAR
