BEGIN:VCALENDAR
VERSION:2.0
PRODID:icalendar-ruby
CALSCALE:GREGORIAN
METHOD:PUBLISH
BEGIN:VEVENT
DTSTAMP:20260424T154921Z
UID:223c594b-0292-42f5-8cbc-628a5c5311ed
DTSTART;VALUE=DATE:20170813
DTEND;VALUE=DATE:20170813
DESCRIPTION:Star City BMX
LOCATION:101 Charleston St  Lincoln NE 68508 USA
SUMMARY:Standard Single Single
URL:/site/bmx_races/347311
END:VEVENT
END:VCALENDAR
