BEGIN:VCALENDAR
VERSION:2.0
PRODID:icalendar-ruby
CALSCALE:GREGORIAN
METHOD:PUBLISH
BEGIN:VEVENT
DTSTAMP:20260421T035158Z
UID:b0741334-9fbe-4873-8518-7e2efc2a0e32
DTSTART;VALUE=DATE:20170202
DTEND;VALUE=DATE:20170202
DESCRIPTION:Lexington BMX
LOCATION:1159 Nazareth Road  Lexington SC 29073 USA
SUMMARY:Practice
URL:/site/bmx_races/348392
END:VEVENT
END:VCALENDAR
