BEGIN:VCALENDAR
VERSION:2.0
PRODID:icalendar-ruby
CALSCALE:GREGORIAN
METHOD:PUBLISH
BEGIN:VEVENT
DTSTAMP:20260421T035101Z
UID:0924a746-a7c2-4b13-bb2f-a611e6bebf16
DTSTART;VALUE=DATE:20170228
DTEND;VALUE=DATE:20170228
DESCRIPTION:Lexington BMX
LOCATION:1159 Nazareth Road  Lexington SC 29073 USA
SUMMARY:Practice
URL:/site/bmx_races/348399
END:VEVENT
END:VCALENDAR
