BEGIN:VCALENDAR
VERSION:2.0
PRODID:icalendar-ruby
CALSCALE:GREGORIAN
METHOD:PUBLISH
BEGIN:VEVENT
DTSTAMP:20260421T022113Z
UID:739f225f-a228-415d-8152-3e7d0f3e55be
DTSTART;VALUE=DATE:20170316
DTEND;VALUE=DATE:20170316
DESCRIPTION:Lexington BMX
LOCATION:1159 Nazareth Road  Lexington SC 29073 USA
SUMMARY:Practice
URL:/site/bmx_races/348404
END:VEVENT
END:VCALENDAR
