BEGIN:VCALENDAR
VERSION:2.0
PRODID:icalendar-ruby
CALSCALE:GREGORIAN
METHOD:PUBLISH
BEGIN:VEVENT
DTSTAMP:20260421T022042Z
UID:0f08c936-8995-4fb3-80fd-2870eac8bc22
DTSTART;VALUE=DATE:20170330
DTEND;VALUE=DATE:20170330
DESCRIPTION:Lexington BMX
LOCATION:1159 Nazareth Road  Lexington SC 29073 USA
SUMMARY:Practice
URL:/site/bmx_races/348408
END:VEVENT
END:VCALENDAR
